BEGIN:VCALENDAR
VERSION:2.0
PRODID:-//Bangalore International Centre - ECPv4.8.1//NONSGML v1.0//EN
CALSCALE:GREGORIAN
METHOD:PUBLISH
X-WR-CALNAME:Bangalore International Centre
X-ORIGINAL-URL:https://bangaloreinternationalcentre.org
X-WR-CALDESC:Events for Bangalore International Centre
BEGIN:VEVENT
DTSTART;TZID=Asia/Kolkata:20260429T190000
DTEND;TZID=Asia/Kolkata:20260429T201500
DTSTAMP:20260423T134343
CREATED:20260420T101729Z
LAST-MODIFIED:20260421T144034Z
UID:88091-1777489200-1777493700@bangaloreinternationalcentre.org
SUMMARY:What Holds
DESCRIPTION:A delicate balance between care and surrender.  \nThis performance showcases the quiet peace that emerges from the repetition of actions. Gayatri Shetty’s solo centres around arranging and rearranging blocks and the underlying grief that comes with the knowledge of their inevitable collapse.  \nPlaying with themes of labour and futility\, performer and performance\, this piece invites you to sit on three sides of the ‘stage’. A mode of close witnessing\, where time\, presence\, and attention become part of the choreography itself. What begins as a study of systems and precision gradually unravels into an intimate dialogue with loss. It becomes a collective experience\, the tussle between patience and uncertainty.  \nThe ache of collapse\, and the courage to rebuild. \nThis event is a part of our programming to celebrate World Dance Day 2026\, ‘The Many Lives of Dance’. \nSupported by: \n \n
URL:https://bangaloreinternationalcentre.org/event/what-holds/
LOCATION:Bangalore International Centre\, 7\, 4th Main Road\, Domlur II Stage\, Bangalore\, Karnataka\, 560071\, India
CATEGORIES:Dance,Performing Arts
ATTACH;FMTTYPE=image/jpeg:https://bangaloreinternationalcentre.org/wp-content/uploads/2026/04/Thumbnail_WH.jpg
END:VEVENT
END:VCALENDAR