BEGIN:VCALENDAR
VERSION:2.0
PRODID:-//Bangalore International Centre - ECPv4.8.1//NONSGML v1.0//EN
CALSCALE:GREGORIAN
METHOD:PUBLISH
X-WR-CALNAME:Bangalore International Centre
X-ORIGINAL-URL:https://bangaloreinternationalcentre.org
X-WR-CALDESC:Events for Bangalore International Centre
BEGIN:VEVENT
DTSTART;TZID=Asia/Kolkata:20260428T183000
DTEND;TZID=Asia/Kolkata:20260428T200000
DTSTAMP:20260422T135546
CREATED:20260420T101105Z
LAST-MODIFIED:20260420T101156Z
UID:88269-1777401000-1777406400@bangaloreinternationalcentre.org
SUMMARY:Thehraav
DESCRIPTION:To pause is political. To act with intention is radical.  \nThis talk explores the power of moving deliberately in an age of speed. Passivity and pause are often mistaken\, and Masoom Parmar is here to set the record straight.  \nWeaving the practical and the theoretical together\, they unpack the nuances of the slow and intentional movements in dance. Invoking Indian temple and court movements\, Parmar also brings in ethnographic and theological perspectives\, to ask questions around whose bodies are allowed to pause\, what attention does to the performer-audience relationship\, and how inherited movement vocabularies carry cultural memory.  \nThey will take audience questions at the end.  \nThis event is a part of our programming to celebrate World Dance Day 2026\, ‘The Many Lives of Dance’. \n
URL:https://bangaloreinternationalcentre.org/event/thehraav/
LOCATION:Bangalore International Centre\, 7\, 4th Main Road\, Domlur II Stage\, Bangalore\, Karnataka\, 560071\, India
CATEGORIES:Dance
ATTACH;FMTTYPE=image/jpeg:https://bangaloreinternationalcentre.org/wp-content/uploads/2026/04/Thumbnail_TR.jpg
END:VEVENT
END:VCALENDAR