BEGIN:VCALENDAR
VERSION:2.0
PRODID:-//Bangalore International Centre - ECPv4.8.1//NONSGML v1.0//EN
CALSCALE:GREGORIAN
METHOD:PUBLISH
X-WR-CALNAME:Bangalore International Centre
X-ORIGINAL-URL:https://bangaloreinternationalcentre.org
X-WR-CALDESC:Events for Bangalore International Centre
BEGIN:VEVENT
DTSTART;TZID=Asia/Kolkata:20260427T190000
DTEND;TZID=Asia/Kolkata:20260427T203000
DTSTAMP:20260420T024019
CREATED:20260418T100915Z
LAST-MODIFIED:20260418T111645Z
UID:88027-1777316400-1777321800@bangaloreinternationalcentre.org
SUMMARY:Dāri | The Path
DESCRIPTION:\nA journey through time itself. \nWhen an ancient art form breathes within contemporary spaces\, it is reborn. Kuchipudi\, originating in the villages in Andhra Pradesh\, has found new life with Avijit Das.  \nThis performance is an offering\, a step in the unbroken rhythm of a tradition that has travelled across generations.  Through movement\, music\, and narrative\, the performance reflects on how form\, context\, and audience have shaped Kuchipudi. \nThis event is a part of our programming to celebrate World Dance Day 2026\, ‘The Many Lives of Dance’. \n\nSupported by:\n\n
URL:https://bangaloreinternationalcentre.org/event/dari-the-path/
LOCATION:Bangalore International Centre\, 7\, 4th Main Road\, Domlur II Stage\, Bangalore\, Karnataka\, 560071\, India
CATEGORIES:Dance,Performing Arts
ATTACH;FMTTYPE=image/jpeg:https://bangaloreinternationalcentre.org/wp-content/uploads/2026/04/Thumbnail-1-2.jpg
END:VEVENT
END:VCALENDAR